{"text_format":"1","workbook":"xlsx","n_sheets":4,"sheets":["成果報告書","会計報告","領収書添付","受領書"],"not_rendered":{"charts":0,"images":0,"macros":1,"external_links":1,"defined_names":4,"comments":1,"pivot_tables":0},"unopened":[],"bounds":{"document_bytes":16777216,"sheet_cells":100000,"rows_first":2000,"rows_last":500,"rows_between":2000,"halvings":0,"cell_chars":16384,"cell_head_chars":4096},"cells_cut":0,"cells_raw":0,"read":"whole","date_system":"1900"}

{"sheet":"成果報告書","index":0,"n_rows":21,"n_cols":8,"rows_kept":21,"cut":false,"hidden":false,"merged":[[7,4,7,5],[18,1,18,9],[17,1,17,2],[17,3,17,9],[8,3,8,5],[20,1,20,9],[0,2,0,3],[15,1,15,2],[15,3,15,9],[16,1,16,2],[16,3,16,9],[0,7,0,9],[3,1,3,9],[9,4,9,5],[12,6,13,9],[9,6,9,9],[10,6,11,9],[4,7,4,9],[6,1,6,5],[10,4,11,5],[12,4,13,5]]}
[null,"助成番号",null,null,"※記入しないでください",null,null,"（教育研究大会報告様式１）"]
[]
[]
[null,"日教弘奈良支部　教育研究大会助成　成果報告書"]
[null,null,null,null,null,null,null,"年　　月　　日"]
[]
[null,"公益財団法人　日本教育公務員弘済会奈良支部"]
[]
[null,null,null,"　支部長　様"]
[null,null,null,null,"団体名"]
[null,null,null,null,"代表者職名"]
[]
[null,null,null,null,"代表者氏名"]
[]
[]
[null,"１　研究大会名"]
[null,"２　研究テーマ"]
[null,"３　E-mail"]
[null,"４　成果の概要（600字～800字にまとめください）"]
[]
[null,"※　様式５の｢受領書」を｢成果報告書｣と一緒に事務局へ送ってください。"]

{"sheet":"会計報告","index":1,"n_rows":58,"n_cols":10,"rows_kept":58,"cut":false,"hidden":false,"merged":[[57,2,57,6],[10,2,10,6],[11,2,11,6],[12,2,12,6],[13,2,13,6],[14,2,14,6],[15,2,15,6],[52,2,52,6],[53,2,53,6],[54,2,54,6],[43,2,43,6],[44,2,44,6],[45,2,45,6],[46,2,46,6],[36,2,36,6],[49,2,49,6],[56,2,56,6],[20,2,20,6],[21,2,21,6],[50,2,50,6],[51,2,51,6],[28,2,28,6],[29,2,29,6],[30,2,30,6],[34,2,34,6],[35,2,35,6],[38,2,38,6],[39,2,39,6],[40,2,40,6],[41,2,41,6],[42,2,42,6],[22,2,22,6],[0,7,0,9],[8,2,8,6],[9,2,9,6],[19,2,19,6],[16,2,16,6],[17,2,17,6],[18,2,18,6],[4,2,4,3],[4,5,4,6],[6,2,6,6],[7,2,7,6],[48,2,48,6],[23,2,23,6],[24,2,24,6],[25,2,25,6],[55,2,55,6],[37,2,37,6],[26,2,26,6],[27,2,27,6],[47,2,47,6]]}
[null,"会計報告",null,null,null,null,null,"（教育研究大会報告様式２）"]
[]
[null,"〈使途明細書〉",null,null,null,null,null,null,null,"No.1"]
[]
[null,"助成金額",null,null,"円"]
[]
[null,"支出月日","項目（内訳：品名・数量等）",null,null,null,null,"金額(税込)","差引残額","領収書\nNo."]
[1,null,null,null,null,null,null,null,{"$f":"IF(H8>0,C5-H8,\"\")","v":""}]
[2,null,null,null,null,null,null,null,{"$f":"IF(H9>0,I8-H9,\"\")","v":""}]
[3,null,null,null,null,null,null,null,{"$f":"IF(H10>0,I9-H10,\"\")","v":""},{"$f":"IF('[1]③-1メール送信用シート'!G12=\"\",\"\",'[1]③-1メール送信用シート'!G12)","v":""}]
[4,null,null,null,null,null,null,null,""]
[5,null,null,null,null,null,null,null,""]
[6,null,null,null,null,null,null,null,""]
[7,null,null,null,null,null,null,null,""]
[8,null,null,null,null,null,null,null,""]
[9,null,null,null,null,null,null,null,""]
[10,null,null,null,null,null,null,null,""]
[11,null,null,null,null,null,null,null,""]
[12,null,null,null,null,null,null,null,""]
[13,null,null,null,null,null,null,null,"",{"$f":"IF('[1]③-1メール送信用シート'!G13=\"\",\"\",'[1]③-1メール送信用シート'!G13)","v":""}]
[14,null,null,null,null,null,null,null,"",{"$f":"IF('[1]③-1メール送信用シート'!G14=\"\",\"\",'[1]③-1メール送信用シート'!G14)","v":""}]
[15,null,null,null,null,null,null,null,"",{"$f":"IF('[1]③-1メール送信用シート'!G15=\"\",\"\",'[1]③-1メール送信用シート'!G15)","v":""}]
[16,null,null,null,null,null,null,null,"",{"$f":"IF('[1]③-1メール送信用シート'!G16=\"\",\"\",'[1]③-1メール送信用シート'!G16)","v":""}]
[17,null,null,null,null,null,null,null,"",{"$f":"IF('[1]③-1メール送信用シート'!G17=\"\",\"\",'[1]③-1メール送信用シート'!G17)","v":""}]
[18,null,null,null,null,null,null,null,"",{"$f":"IF('[1]③-1メール送信用シート'!G18=\"\",\"\",'[1]③-1メール送信用シート'!G18)","v":""}]
[19,null,null,null,null,null,null,null,"",{"$f":"IF('[1]③-1メール送信用シート'!G19=\"\",\"\",'[1]③-1メール送信用シート'!G19)","v":""}]
[20,null,null,null,null,null,null,null,""]
[21,null,null,null,null,null,null,null,""]
[22,null,null,null,null,null,null,null,"",{"$f":"IF('[1]③-1メール送信用シート'!G22=\"\",\"\",'[1]③-1メール送信用シート'!G22)","v":""}]
[23,null,null,null,null,null,null,null,"",{"$f":"IF('[1]③-1メール送信用シート'!G23=\"\",\"\",'[1]③-1メール送信用シート'!G23)","v":""}]
[24,null,null,null,null,null,null,null,"",{"$f":"IF('[1]③-1メール送信用シート'!G24=\"\",\"\",'[1]③-1メール送信用シート'!G24)","v":""}]
[]
[null,null,null,null,null,null,null,null,null,"No."]
[]
[null,"支出年月日","項目（内訳：品名・数量等）",null,null,null,null,"金額(税込)","差引残額","領収書\nNo."]
[null,null,"前項からの繰越し",null,null,null,null,null,{"$f":"I31","v":""}]
[25,null,null,null,null,null,null,null,{"$f":"IF(H37>0,I36-H37,\"\")","v":""},{"$f":"IF('[1]③-1メール送信用シート'!G25=\"\",\"\",'[1]③-1メール送信用シート'!G25)","v":""}]
[26,null,null,null,null,null,null,null,"",{"$f":"IF('[1]③-1メール送信用シート'!G26=\"\",\"\",'[1]③-1メール送信用シート'!G26)","v":""}]
[27,null,null,null,null,null,null,null,"",{"$f":"IF('[1]③-1メール送信用シート'!G27=\"\",\"\",'[1]③-1メール送信用シート'!G27)","v":""}]
[28,null,null,null,null,null,null,null,"",{"$f":"IF('[1]③-1メール送信用シート'!G28=\"\",\"\",'[1]③-1メール送信用シート'!G28)","v":""}]
[29,null,null,null,null,null,null,null,"",{"$f":"IF('[1]③-1メール送信用シート'!G29=\"\",\"\",'[1]③-1メール送信用シート'!G29)","v":""}]
[30,null,null,null,null,null,null,null,"",{"$f":"IF('[1]③-1メール送信用シート'!G30=\"\",\"\",'[1]③-1メール送信用シート'!G30)","v":""}]
[31,null,null,null,null,null,null,null,"",{"$f":"IF('[1]③-1メール送信用シート'!G31=\"\",\"\",'[1]③-1メール送信用シート'!G31)","v":""}]
[32,null,null,null,null,null,null,null,"",{"$f":"IF('[1]③-1メール送信用シート'!G32=\"\",\"\",'[1]③-1メール送信用シート'!G32)","v":""}]
[33,null,null,null,null,null,null,null,"",{"$f":"IF('[1]③-1メール送信用シート'!G33=\"\",\"\",'[1]③-1メール送信用シート'!G33)","v":""}]
[34,null,null,null,null,null,null,null,"",{"$f":"IF('[1]③-1メール送信用シート'!G34=\"\",\"\",'[1]③-1メール送信用シート'!G34)","v":""}]
[35,null,null,null,null,null,null,null,"",{"$f":"IF('[1]③-1メール送信用シート'!G35=\"\",\"\",'[1]③-1メール送信用シート'!G35)","v":""}]
[36,null,null,null,null,null,null,null,"",{"$f":"IF('[1]③-1メール送信用シート'!G36=\"\",\"\",'[1]③-1メール送信用シート'!G36)","v":""}]
[37,null,null,null,null,null,null,null,"",{"$f":"IF('[1]③-1メール送信用シート'!G37=\"\",\"\",'[1]③-1メール送信用シート'!G37)","v":""}]
[38,null,null,null,null,null,null,null,"",{"$f":"IF('[1]③-1メール送信用シート'!G38=\"\",\"\",'[1]③-1メール送信用シート'!G38)","v":""}]
[39,null,null,null,null,null,null,null,"",{"$f":"IF('[1]③-1メール送信用シート'!G39=\"\",\"\",'[1]③-1メール送信用シート'!G39)","v":""}]
[40,null,null,null,null,null,null,null,"",{"$f":"IF('[1]③-1メール送信用シート'!G40=\"\",\"\",'[1]③-1メール送信用シート'!G40)","v":""}]
[41,null,null,null,null,null,null,null,"",{"$f":"IF('[1]③-1メール送信用シート'!G41=\"\",\"\",'[1]③-1メール送信用シート'!G41)","v":""}]
[42,null,null,null,null,null,null,null,"",{"$f":"IF('[1]③-1メール送信用シート'!G42=\"\",\"\",'[1]③-1メール送信用シート'!G42)","v":""}]
[43,null,null,null,null,null,null,null,"",{"$f":"IF('[1]③-1メール送信用シート'!G46=\"\",\"\",'[1]③-1メール送信用シート'!G46)","v":""}]
[44,null,null,null,null,null,null,null,"",{"$f":"IF('[1]③-1メール送信用シート'!G47=\"\",\"\",'[1]③-1メール送信用シート'!G47)","v":""}]
[45,null,null,null,null,null,null,null,"",{"$f":"IF('[1]③-1メール送信用シート'!G48=\"\",\"\",'[1]③-1メール送信用シート'!G48)","v":""}]
[null,null,"合    計",null,null,null,null,null,"",{"$f":"IF('[1]③-1メール送信用シート'!G49=\"\",\"\",'[1]③-1メール送信用シート'!G49)","v":""}]

{"sheet":"領収書添付","index":2,"n_rows":39,"n_cols":5,"rows_kept":39,"cut":false,"hidden":false,"merged":[[3,2,33,2]]}
[null,null,null,null,"(教育研究大会報告様式３)"]
[null,"　"]
[]
[null,null,"領収書添付欄"]
[]
[]
[]
[]
[]
[]
[]
[]
[]
[]
[]
[]
[]
[]
[]
[]
[]
[]
[]
[]
[]
[]
[]
[]
[]
[]
[]
[]
[]
[]
[]
[null,"※領収書の①日付、②大会の名称、③金額、④但し書き、⑤住所、氏名、認印を"]
[null,"ご確認ください。必要に応じて、コピーしてご使用ください。"]
[null,"※研究大会実施に関わる経費のうち、スタッフの人件費・旅費・飲食費・助成団"]
[null,"体内部へ還流する謝金・会場費等は、助成対象とはなりません。"]

{"sheet":"受領書","index":3,"n_rows":26,"n_cols":8,"rows_kept":26,"cut":false,"hidden":false,"merged":[[25,1,25,7],[1,0,1,7],[3,0,3,8],[7,2,7,4],[7,5,7,6],[9,2,9,6],[21,1,21,4],[10,2,10,6],[13,1,13,4],[14,1,14,4],[16,1,16,7],[19,1,19,2]]}
[]
["(教育研究大会 様式4)"]
[]
["教育研究大会助成金　受領書"]
[]
[]
[]
[null,"金",null,null,null,"円"]
[]
[null,null,"ただし、2025年度｢教育研究大会助成金｣として"]
[null,null,"上記、確かに受け取りました。"]
[]
[]
[null,"公益財団法人　日本教育公務員弘済会"]
[null,"奈 良 支 部 長　様"]
[]
[null,"年　　月　　　日"]
[]
[]
[null,"教育研究大会名"]
[]
[null,"教育研究大会(実行委員会)代表者名",null,null,null,null,null,"印"]
[]
[]
[]
[null,"※　この｢受領書｣は、報告様式１の｢成果報告書」等と一緒に事務局に送ってください。"]